BEGIN:VCALENDAR
VERSION:2.0
PRODID:-//Lenox Library - ECPv6.15.20//NONSGML v1.0//EN
CALSCALE:GREGORIAN
METHOD:PUBLISH
X-ORIGINAL-URL:https://lenoxlib.org
X-WR-CALDESC:Events for Lenox Library
REFRESH-INTERVAL;VALUE=DURATION:PT1H
X-Robots-Tag:noindex
X-PUBLISHED-TTL:PT1H
BEGIN:VTIMEZONE
TZID:America/New_York
BEGIN:DAYLIGHT
TZOFFSETFROM:-0500
TZOFFSETTO:-0400
TZNAME:EDT
DTSTART:20250309T070000
END:DAYLIGHT
BEGIN:STANDARD
TZOFFSETFROM:-0400
TZOFFSETTO:-0500
TZNAME:EST
DTSTART:20251102T060000
END:STANDARD
BEGIN:DAYLIGHT
TZOFFSETFROM:-0500
TZOFFSETTO:-0400
TZNAME:EDT
DTSTART:20260308T070000
END:DAYLIGHT
BEGIN:STANDARD
TZOFFSETFROM:-0400
TZOFFSETTO:-0500
TZNAME:EST
DTSTART:20261101T060000
END:STANDARD
BEGIN:DAYLIGHT
TZOFFSETFROM:-0500
TZOFFSETTO:-0400
TZNAME:EDT
DTSTART:20270314T070000
END:DAYLIGHT
BEGIN:STANDARD
TZOFFSETFROM:-0400
TZOFFSETTO:-0500
TZNAME:EST
DTSTART:20271107T060000
END:STANDARD
END:VTIMEZONE
BEGIN:VEVENT
DTSTART;TZID=America/New_York:20260304T103000
DTEND;TZID=America/New_York:20260304T110000
DTSTAMP:20260425T095738
CREATED:20251129T163538Z
LAST-MODIFIED:20260328T193639Z
UID:10013932-1772620200-1772622000@lenoxlib.org
SUMMARY:Baby Circle
DESCRIPTION:Lenox Library is excited to offer a low key and judgement-free group for all families. Join us for songs and bounces followed by play and chatting. Free baby weight checks available. Babies up to 15 months (actual or developmentally) and older siblings are welcome. \nThe first Wednesday of the month will feature a craft for you to keep! \nApril Pitroff Varellas\, IBCLC\, PMH-C from Berkshire Nursing Families will join us every third Wednesday of the month to answer your baby feeding questions. \nGroup Leaders: Sara Jarvie is an early childhood development specialist. Stephanie Storie is a Certified Birth and Postpartum Doula. \nPlease note: If you or your child has any signs of illness\, please stay home. We look forward to seeing you the following week! During the summer months\, this event takes place outside in Roche Reading Park.
URL:https://lenoxlib.org/event/baby-circle/2026-03-04/
CATEGORIES:Family & Children
ATTACH;FMTTYPE=image/gif:https://lenoxlib.org/wp-content/uploads/2021/04/bumblebee.gif
END:VEVENT
BEGIN:VEVENT
DTSTART;TZID=America/New_York:20260305T103000
DTEND;TZID=America/New_York:20260305T110000
DTSTAMP:20260425T095738
CREATED:20251129T162515Z
LAST-MODIFIED:20251129T163946Z
UID:10013859-1772706600-1772708400@lenoxlib.org
SUMMARY:Story Time
DESCRIPTION:Join Youth Librarian Vanessa Justice for a fun story time each week! We will sing songs\, read books\, and follow up with an open play time. For children ages 15 months and up and their siblings.
URL:https://lenoxlib.org/event/story-time-2/2026-03-05/
CATEGORIES:Family & Children
ATTACH;FMTTYPE=image/png:https://lenoxlib.org/wp-content/uploads/2024/10/Story-Time-Instagram.png
END:VEVENT
BEGIN:VEVENT
DTSTART;TZID=America/New_York:20260311T103000
DTEND;TZID=America/New_York:20260311T110000
DTSTAMP:20260425T095738
CREATED:20251129T163538Z
LAST-MODIFIED:20260328T193639Z
UID:10013933-1773225000-1773226800@lenoxlib.org
SUMMARY:Baby Circle
DESCRIPTION:Lenox Library is excited to offer a low key and judgement-free group for all families. Join us for songs and bounces followed by play and chatting. Free baby weight checks available. Babies up to 15 months (actual or developmentally) and older siblings are welcome. \nThe first Wednesday of the month will feature a craft for you to keep! \nApril Pitroff Varellas\, IBCLC\, PMH-C from Berkshire Nursing Families will join us every third Wednesday of the month to answer your baby feeding questions. \nGroup Leaders: Sara Jarvie is an early childhood development specialist. Stephanie Storie is a Certified Birth and Postpartum Doula. \nPlease note: If you or your child has any signs of illness\, please stay home. We look forward to seeing you the following week! During the summer months\, this event takes place outside in Roche Reading Park.
URL:https://lenoxlib.org/event/baby-circle/2026-03-11/
CATEGORIES:Family & Children
ATTACH;FMTTYPE=image/gif:https://lenoxlib.org/wp-content/uploads/2021/04/bumblebee.gif
END:VEVENT
BEGIN:VEVENT
DTSTART;TZID=America/New_York:20260312T103000
DTEND;TZID=America/New_York:20260312T110000
DTSTAMP:20260425T095738
CREATED:20251129T162515Z
LAST-MODIFIED:20251129T163946Z
UID:10013860-1773311400-1773313200@lenoxlib.org
SUMMARY:Story Time
DESCRIPTION:Join Youth Librarian Vanessa Justice for a fun story time each week! We will sing songs\, read books\, and follow up with an open play time. For children ages 15 months and up and their siblings.
URL:https://lenoxlib.org/event/story-time-2/2026-03-12/
CATEGORIES:Family & Children
ATTACH;FMTTYPE=image/png:https://lenoxlib.org/wp-content/uploads/2024/10/Story-Time-Instagram.png
END:VEVENT
BEGIN:VEVENT
DTSTART;TZID=America/New_York:20260313T150000
DTEND;TZID=America/New_York:20260313T160000
DTSTAMP:20260425T095738
CREATED:20260207T162511Z
LAST-MODIFIED:20260227T163305Z
UID:10014042-1773414000-1773417600@lenoxlib.org
SUMMARY:Bad Luck\, Bad Art
DESCRIPTION:It’s Friday the 13th and we’re embracing when things go wrong! Youth ages 10 – 17 can create terrible (or awesome) art with a variety of supplies provided by the Library. No judgement and no experience needed. Try something new\, prepare to fail\, and have fun doing it! There will be snacks.
URL:https://lenoxlib.org/event/bad-luck-bad-art/
CATEGORIES:Teen
ATTACH;FMTTYPE=image/png:https://lenoxlib.org/wp-content/uploads/2026/02/Bad-art.png
END:VEVENT
BEGIN:VEVENT
DTSTART;TZID=America/New_York:20260318T103000
DTEND;TZID=America/New_York:20260318T113000
DTSTAMP:20260425T095738
CREATED:20260212T152609Z
LAST-MODIFIED:20260227T164857Z
UID:10014046-1773829800-1773833400@lenoxlib.org
SUMMARY:Baby Circle & Supply Swap
DESCRIPTION:Join us for a very special Baby Circle event to pass along gently used baby supplies* to new and expecting Lenox Library parents. \nWe will host a supply swap for gently used baby supplies (carriers\, monitors\, activity mats\, etc.) to give to Baby Circle attendees and expecting parents from the Berkshire community. All items will be put out for new and expecting parents to take from during Baby Circle on March 18\, 2026. \nCommunity members (especially Baby Circle alumni!) may participate by dropping off any baby supplies for the event between March 3-18. We also welcome expecting families to come meet Baby Circle leaders Sara and Steph and participate\, too! We hope to start a tradition of passing along items that our Baby Circle parents love but no longer need to families who are in the thick of new parenthood. \nBaby Circle is a weekly gathering for new parents with babies aged 0-15 months. We sing songs\, do early literacy activities\, and provide support to new families in Lenox and surrounding communities. \nAbout our Baby Circle leaders: Youth Assistant Sara is a pediatric development specialist and Library Assistant Steph is a birth and post-partum doula. \n*No clothing or large furniture items\, please.  Call the Library at 413-637-0197 with any questions about what items are being accepted.
URL:https://lenoxlib.org/event/baby-circle-supply-swap/
LOCATION:Welles Gallery\, 18 Main Street\, Lenox\, MA\, 01240\, United States
CATEGORIES:Family & Children
ATTACH;FMTTYPE=image/png:https://lenoxlib.org/wp-content/uploads/2026/02/Lenox-Library-Baby-Circle-presents.png
GEO:42.3572855;-73.2843286
X-APPLE-STRUCTURED-LOCATION;VALUE=URI;X-ADDRESS=Welles Gallery 18 Main Street Lenox MA 01240 United States;X-APPLE-RADIUS=500;X-TITLE=18 Main Street:geo:-73.2843286,42.3572855
END:VEVENT
BEGIN:VEVENT
DTSTART;TZID=America/New_York:20260318T160000
DTEND;TZID=America/New_York:20260318T170000
DTSTAMP:20260425T095738
CREATED:20260207T162921Z
LAST-MODIFIED:20260207T162921Z
UID:10014043-1773849600-1773853200@lenoxlib.org
SUMMARY:Kids Graphic Novel Club
DESCRIPTION:Join Lenox Library for an exciting new club for kids in grades 3 – 6. Come talk about your favorite graphic novels and create your own! Meets once a month. Children under age 10 must have a caregiver with them.
URL:https://lenoxlib.org/event/kids-graphic-novel-club-3/
CATEGORIES:Family & Children
ATTACH;FMTTYPE=image/png:https://lenoxlib.org/wp-content/uploads/2026/02/KGN-march.png
END:VEVENT
BEGIN:VEVENT
DTSTART;TZID=America/New_York:20260319T103000
DTEND;TZID=America/New_York:20260319T110000
DTSTAMP:20260425T095738
CREATED:20251129T162515Z
LAST-MODIFIED:20251129T163946Z
UID:10013861-1773916200-1773918000@lenoxlib.org
SUMMARY:Story Time
DESCRIPTION:Join Youth Librarian Vanessa Justice for a fun story time each week! We will sing songs\, read books\, and follow up with an open play time. For children ages 15 months and up and their siblings.
URL:https://lenoxlib.org/event/story-time-2/2026-03-19/
CATEGORIES:Family & Children
ATTACH;FMTTYPE=image/png:https://lenoxlib.org/wp-content/uploads/2024/10/Story-Time-Instagram.png
END:VEVENT
BEGIN:VEVENT
DTSTART;TZID=America/New_York:20260321T140000
DTEND;TZID=America/New_York:20260321T160000
DTSTAMP:20260425T095738
CREATED:20260207T163302Z
LAST-MODIFIED:20260310T200129Z
UID:10014044-1774101600-1774108800@lenoxlib.org
SUMMARY:Poetry Party
DESCRIPTION:We will kick off our Youth Poetry Contest on World Poetry Day with food\, games\, crafts\, and a reading and workshop with Kateri Kosek. Kateri will briefly read from her book The Forest Revealed\, which poetically illuminates the feats and fragilities of the flora\, fauna\, and everything in between that calls the Northern forest home. Twelve large watercolor paintings by Maine artist Jada Fitch take viewers month by month\, tree by tree through life in the forest\, making the book a delight for all ages. \nThen\, by using the natural world as inspiration\, participants will use a step-by-step writing prompt to compose their own epistolary (letter) poems to a creature of their choosing. \nYouth Poetry Contest Theme: What Brings You Joy? \nAccepting submissions March 21 – April 18\, 2026. Youth in grades 3 – 12 eligible to enter. Three age categories. First place winners will earn a prize! Contest guidelines and submission form coming soon. Winners will be announced April 25\, 2026 at our Poetry Celebration! \nSupport for this program is generously provided by Beth and Peter Levin.
URL:https://lenoxlib.org/event/poetry-party/
CATEGORIES:Family & Children,Teen
ATTACH;FMTTYPE=image/png:https://lenoxlib.org/wp-content/uploads/2026/02/Copy-of-March-flyers.png
END:VEVENT
BEGIN:VEVENT
DTSTART;TZID=America/New_York:20260325T103000
DTEND;TZID=America/New_York:20260325T110000
DTSTAMP:20260425T095738
CREATED:20251129T163538Z
LAST-MODIFIED:20260328T193639Z
UID:10013935-1774434600-1774436400@lenoxlib.org
SUMMARY:Baby Circle
DESCRIPTION:Lenox Library is excited to offer a low key and judgement-free group for all families. Join us for songs and bounces followed by play and chatting. Free baby weight checks available. Babies up to 15 months (actual or developmentally) and older siblings are welcome. \nThe first Wednesday of the month will feature a craft for you to keep! \nApril Pitroff Varellas\, IBCLC\, PMH-C from Berkshire Nursing Families will join us every third Wednesday of the month to answer your baby feeding questions. \nGroup Leaders: Sara Jarvie is an early childhood development specialist. Stephanie Storie is a Certified Birth and Postpartum Doula. \nPlease note: If you or your child has any signs of illness\, please stay home. We look forward to seeing you the following week! During the summer months\, this event takes place outside in Roche Reading Park.
URL:https://lenoxlib.org/event/baby-circle/2026-03-25/
CATEGORIES:Family & Children
ATTACH;FMTTYPE=image/gif:https://lenoxlib.org/wp-content/uploads/2021/04/bumblebee.gif
END:VEVENT
BEGIN:VEVENT
DTSTART;TZID=America/New_York:20260326T103000
DTEND;TZID=America/New_York:20260326T110000
DTSTAMP:20260425T095738
CREATED:20251129T162515Z
LAST-MODIFIED:20251129T163946Z
UID:10013862-1774521000-1774522800@lenoxlib.org
SUMMARY:Story Time
DESCRIPTION:Join Youth Librarian Vanessa Justice for a fun story time each week! We will sing songs\, read books\, and follow up with an open play time. For children ages 15 months and up and their siblings.
URL:https://lenoxlib.org/event/story-time-2/2026-03-26/
CATEGORIES:Family & Children
ATTACH;FMTTYPE=image/png:https://lenoxlib.org/wp-content/uploads/2024/10/Story-Time-Instagram.png
END:VEVENT
END:VCALENDAR