BEGIN:VCALENDAR
VERSION:2.0
PRODID:-//Lenox Library - ECPv6.15.20//NONSGML v1.0//EN
CALSCALE:GREGORIAN
METHOD:PUBLISH
X-ORIGINAL-URL:https://lenoxlib.org
X-WR-CALDESC:Events for Lenox Library
REFRESH-INTERVAL;VALUE=DURATION:PT1H
X-Robots-Tag:noindex
X-PUBLISHED-TTL:PT1H
BEGIN:VTIMEZONE
TZID:America/New_York
BEGIN:DAYLIGHT
TZOFFSETFROM:-0500
TZOFFSETTO:-0400
TZNAME:EDT
DTSTART:20240310T070000
END:DAYLIGHT
BEGIN:STANDARD
TZOFFSETFROM:-0400
TZOFFSETTO:-0500
TZNAME:EST
DTSTART:20241103T060000
END:STANDARD
BEGIN:DAYLIGHT
TZOFFSETFROM:-0500
TZOFFSETTO:-0400
TZNAME:EDT
DTSTART:20250309T070000
END:DAYLIGHT
BEGIN:STANDARD
TZOFFSETFROM:-0400
TZOFFSETTO:-0500
TZNAME:EST
DTSTART:20251102T060000
END:STANDARD
BEGIN:DAYLIGHT
TZOFFSETFROM:-0500
TZOFFSETTO:-0400
TZNAME:EDT
DTSTART:20260308T070000
END:DAYLIGHT
BEGIN:STANDARD
TZOFFSETFROM:-0400
TZOFFSETTO:-0500
TZNAME:EST
DTSTART:20261101T060000
END:STANDARD
BEGIN:DAYLIGHT
TZOFFSETFROM:-0500
TZOFFSETTO:-0400
TZNAME:EDT
DTSTART:20270314T070000
END:DAYLIGHT
BEGIN:STANDARD
TZOFFSETFROM:-0400
TZOFFSETTO:-0500
TZNAME:EST
DTSTART:20271107T060000
END:STANDARD
END:VTIMEZONE
BEGIN:VEVENT
DTSTART;TZID=America/New_York:20260324T170000
DTEND;TZID=America/New_York:20260324T190000
DTSTAMP:20260425T082531
CREATED:20260218T215634Z
LAST-MODIFIED:20260302T135504Z
UID:10014439-1774371600-1774378800@lenoxlib.org
SUMMARY:Handbag Pop Up to benefit the LLA!
DESCRIPTION:Join us at SALA in West Stockbridge for a special pop-up handbag sale! \nAll handbags have been generously donated from Berkshire residents and are in good to excellent condition. Featured brands include Longchamp\, Cole Haan\, Coach\, Gucci\, Carlo Falchi\, Fendi\, Arche\, Kate Spade\, and many more. \nBrowse a wide selection of styles\, colors\, and sizes — and find your next favorite bag while supporting a wonderful cause! \nProceeds benefit the Lenox Library Association\, supporting library programs\, materials\, and services for our community. \nCash bar available. \nThis is event is made possible through the partnership of SALA Boutique\, Foundry West Stockbridge\, and the Lenox Library Association.
URL:https://lenoxlib.org/event/handbag-pop-up-to-benefit-the-lla/
LOCATION:SALA\, 2 Harris Street\, West Stockbridge\, MA\, 01240\, United States
CATEGORIES:Community,Fundraising,LLA Events
ATTACH;FMTTYPE=image/png:https://lenoxlib.org/wp-content/uploads/2026/02/handbag-1.png
END:VEVENT
BEGIN:VEVENT
DTSTART;TZID=America/New_York:20260312T170000
DTEND;TZID=America/New_York:20260312T203000
DTSTAMP:20260425T082531
CREATED:20251208T180333Z
LAST-MODIFIED:20251208T180549Z
UID:10014000-1773334800-1773347400@lenoxlib.org
SUMMARY:Dine to Donate at Brava!
DESCRIPTION:Join the LLA for a fun yummy evening at Brava!  They have partnered with us for a special night out where they will donate 15% of their sales to the LLA to support library programs and services.  Bravo for Brava!
URL:https://lenoxlib.org/event/dine-to-donate-at-brava-2/
LOCATION:Brava\, 65 Church Street\, Lenox\, 01240\, United States
CATEGORIES:Community,Fundraising,LLA Events
ATTACH;FMTTYPE=image/png:https://lenoxlib.org/wp-content/uploads/2025/12/2026-D2D-flyer.png
END:VEVENT
BEGIN:VEVENT
DTSTART;TZID=America/New_York:20260226T170000
DTEND;TZID=America/New_York:20260226T210000
DTSTAMP:20260425T082531
CREATED:20251209T163113Z
LAST-MODIFIED:20260105T164014Z
UID:10014001-1772125200-1772139600@lenoxlib.org
SUMMARY:Dine to Donate at Frankie's Ristorante!
DESCRIPTION:Join the Lenox Library Association on Thursday\, February 26th for a special Dine to Donate night at Frankie’s Ristorante! Enjoy a delicious meal while supporting a great cause\, as 10% of the evening’s proceeds will be donated to the LLA to support library programs and services. To make this event a success\, we need 20 or more guests\, so bring friends and family! Be sure to let the restaurant staff know you’re dining to support the Lenox Library Association when you make reservations\, order take out or when you arrive. Don’t miss this chance to dine for a cause—see you there!  MANGIA!
URL:https://lenoxlib.org/event/dine-to-donate-at-frankies-ristorante/
LOCATION:Frankie’s Ristorante\, 80 Main Street\, Lenox\, MA\, 01240
CATEGORIES:Community,Fundraising,LLA Events
ATTACH;FMTTYPE=image/png:https://lenoxlib.org/wp-content/uploads/2025/12/2026-D2D-Frankies.png
END:VEVENT
BEGIN:VEVENT
DTSTART;TZID=America/New_York:20260128T110000
DTEND;TZID=America/New_York:20260128T210000
DTSTAMP:20260425T082531
CREATED:20260106T180447Z
LAST-MODIFIED:20260116T140636Z
UID:10014014-1769598000-1769634000@lenoxlib.org
SUMMARY:Dine to Donate at Antimony
DESCRIPTION:Dine Out for a Great Cause! \nJoin the Lenox Library Association for a Dine to Donate day at Antimony Brewing on Wednesday\, January 28th from 11:00 AM–9:00 PM! Enjoy delicious food\, great vibes\, and the joy of giving back—all at the same time. \n10% of all proceeds from the day will be donated to the Lenox Library Association to support our library\, helping us continue to inspire readers\, learners\, and dreamers in our community. \nBring your friends\, bring your family\, and come hungry—every bite makes a difference! Let’s eat\, celebrate\, and support a cause we love.
URL:https://lenoxlib.org/event/dine-to-donate-at-antimony/
LOCATION:Antimony Brewing\, 55 Pittsfield Road\, LENOX\, MA\, 01240-2310\, United States
CATEGORIES:Community,Fundraising,LLA Events
ATTACH;FMTTYPE=image/png:https://lenoxlib.org/wp-content/uploads/2026/01/Antiomy-D2D-flyer-jan26.png
END:VEVENT
BEGIN:VEVENT
DTSTART;TZID=America/New_York:20251012T090000
DTEND;TZID=America/New_York:20251012T170000
DTSTAMP:20260425T082531
CREATED:20251007T130358Z
LAST-MODIFIED:20251007T130444Z
UID:10013408-1760259600-1760288400@lenoxlib.org
SUMMARY:Lenox Library Association 2025 Annual Book Sale
DESCRIPTION:Lenox Library Association 2025 Annual Book Sale\nOctober 11 and 12\, Lenox Town Hall\n\n10\,000 books from Berkshires homes – Many Specials and Collectibles; signed\, first editions\, pre-1900 – 25 categories – Most in Like-New or VG Condition – CDs and audiobooks – No viewers before Saturday opening – guaranteed! \n\nSunday\, October 12\n9 am – 5 pm; free admission
URL:https://lenoxlib.org/event/lenox-library-association-2025-annual-book-sale-2/
LOCATION:Lenox Town Hall\, 6 Walker Street\, Lenox\, MA\, 01240\, United States
CATEGORIES:Community,Family & Children,Fundraising,LLA Events,Teen
ATTACH;FMTTYPE=image/jpeg:https://lenoxlib.org/wp-content/uploads/2021/01/Book-sale-pano-scaled.jpg
GEO:42.3564156;-73.2847252
X-APPLE-STRUCTURED-LOCATION;VALUE=URI;X-ADDRESS=Lenox Town Hall 6 Walker Street Lenox MA 01240 United States;X-APPLE-RADIUS=500;X-TITLE=6 Walker Street:geo:-73.2847252,42.3564156
END:VEVENT
BEGIN:VEVENT
DTSTART;TZID=America/New_York:20251011T090000
DTEND;TZID=America/New_York:20251012T170000
DTSTAMP:20260425T082531
CREATED:20250221T193947Z
LAST-MODIFIED:20250515T184359Z
UID:10003760-1760173200-1760288400@lenoxlib.org
SUMMARY:Lenox Library Association 2025 Annual Book Sale
DESCRIPTION:Lenox Library Association 2025 Annual Book Sale\nOctober 11 and 12\, Lenox Town Hall\n\n10\,000 books from Berkshires homes – Many Specials and Collectibles; signed\, first editions\, pre-1900 – 25 categories – Most in Like-New or VG Condition – CDs and audiobooks – No viewers before Saturday opening – guaranteed! \n\nSaturday\, October 11\n9:00 am to 5:00 pm\n“Sneak Peak” 9 am – noon\, $10 donation. Numbers for early entry will be given out at 8 am\nNoon-5 pm; free admission\n\nSunday\, October 12\n9:00 am to 5:00 pm\n9 am – 5 pm; free admission
URL:https://lenoxlib.org/event/lenox-library-association-2025-annual-book-sale/
LOCATION:Lenox Town Hall\, 6 Walker Street\, Lenox\, MA\, 01240\, United States
CATEGORIES:Fundraising,LLA Events
ATTACH;FMTTYPE=image/jpeg:https://lenoxlib.org/wp-content/uploads/2024/11/IMG_5615-scaled.jpg
GEO:42.3564156;-73.2847252
X-APPLE-STRUCTURED-LOCATION;VALUE=URI;X-ADDRESS=Lenox Town Hall 6 Walker Street Lenox MA 01240 United States;X-APPLE-RADIUS=500;X-TITLE=6 Walker Street:geo:-73.2847252,42.3564156
END:VEVENT
BEGIN:VEVENT
DTSTART;TZID=America/New_York:20250913T130000
DTEND;TZID=America/New_York:20250913T160000
DTSTAMP:20260425T082531
CREATED:20250423T194409Z
LAST-MODIFIED:20250522T134337Z
UID:10004461-1757768400-1757779200@lenoxlib.org
SUMMARY:Lenox Wine Festival 2025
DESCRIPTION:The Lenox Wine Festival Returns! \nSaturday\, September 13\, 2025 | 1–4pm | Lenox\, MA \nJoin us for the third annual Lenox Wine Festival\, Berkshire County’s premier celebration of wine\, food\, and community! Sip unlimited tastings of international and domestic wines\, craft beers\, and local ciders. Meet the makers\, mingle with importers\, and enjoy Neapolitan pizza from Pizzeria Boema\, live music\, and a festive atmosphere. \n✨ Don’t miss our Silent Auction to benefit the Lenox Library Association — bid on amazing items for a great cause! \nAll featured beverages will be available for purchase at special event pricing. \nDetails: \n\nDate: Saturday\, September 13th\, 2025\nTime: 1-4pm\nLocation: The Barn at Pizzeria Boema\, 84 Main Street\, Lenox\, MA\nOrganized by: Dare Bottleshop & Provisions\nTicket Info: No physical ticket required; your order confirmation is your entry. Tickets are non-refundable but transferable. To transfer tickets\, email mary@darebottleshop.com.\n\nLet’s raise a glass to great wine and a great cause. See you there! \nFAQ: \n\nDo I need a physical (printed) ticket? No\, a physical ticket is not required for this event. Guests will be checked in using the name associated with their ticket purchase.\nWhat’s included in my ticket? Access to unlimited tastings of wines\, ciders\, and craft beers while enjoying live music and food options on site!\nCan I bring my dog? Unfortunately\, no pets are allowed.\nIs this event kid-friendly? This event is for 21+ attendees; infants are welcome\, but children must stay home.\nWill there be food? Yes\, food will be available for purchase with various options.
URL:https://lenoxlib.org/event/berkshire-wine-festival-2025/
LOCATION:Pizzeria Boema\, 84 Main Street\, Lenox\, MA\, 01240\, United States
CATEGORIES:Community,Fundraising,LLA Events
ATTACH;FMTTYPE=image/png:https://lenoxlib.org/wp-content/uploads/2025/04/LWF-2025-Flyers-Portrait-Door-Hangers-1080-x-1350-px-Flyers-Portrait.png
END:VEVENT
BEGIN:VEVENT
DTSTART;TZID=America/New_York:20250716T160000
DTEND;TZID=America/New_York:20250716T200000
DTSTAMP:20260425T082531
CREATED:20250423T185346Z
LAST-MODIFIED:20250618T154809Z
UID:10004459-1752681600-1752696000@lenoxlib.org
SUMMARY:Do Good with Chipotle/Haz el Bien con Chipotle
DESCRIPTION:Join us for a Chipotle Fundraiser!  25%  of sales benefit the Lenox Library Association!  Wednesday\, July 16th from 4-8pm \n\n\nWhat do I have to do in order to have my purchase count?  In order for your purchase to count towards your fundraiser\, your supporters must either a) verbally tell our cashier of their participation\, b) show a physical fundraiser flyer\, c) show a digital flyer on a smartphone or other mobile device\, or d) use your fundraiser’s online ordering code to place an order for pickup through the Chipotle app or website. Remember\, delivery orders or orders placed at a different time/location than your scheduled event will not count towards your fundraiser.\n\n\nCan my online order be counted towards the fundraiser? Yes! Online or in-app orders can be counted towards your fundraiser. Supporters must place their orders for pickup through the Chipotle app or website and during checkout use your fundraiser’s code in the “promo” field. Your unique code is 6W4MZLG.  Remember\, delivery orders or orders placed at a different time/location than your scheduled event will not count towards your fundraiser.\n\n\n\nOrder online for pickup using code 6W4MZLG or pick up a printed flyer at the front desk to show when ordering in-store. \n\n\n\n\n 
URL:https://lenoxlib.org/event/do-good-with-chipotle/
LOCATION:Chipotle\, 555 Hubbard Ave\, Pittsfield\, 01201\, United States
CATEGORIES:Fundraising,LLA Events
ATTACH;FMTTYPE=image/jpeg:https://lenoxlib.org/wp-content/uploads/2025/04/Chipotle-english-flyer.jpg
END:VEVENT
BEGIN:VEVENT
DTSTART;TZID=America/New_York:20250621T120000
DTEND;TZID=America/New_York:20250621T170000
DTSTAMP:20260425T082531
CREATED:20250423T190733Z
LAST-MODIFIED:20250425T155016Z
UID:10004460-1750507200-1750525200@lenoxlib.org
SUMMARY:The Lenox Garden Party - A Retail Experience
DESCRIPTION:Shop\, Eat & Drink with the Best of Lenox! Shop at the Lenox Library Association Book Nook and receive a special garden sweet treat with a $5 purchase.  Walk around town and visit participating businesses to enjoy complimentary cocktails\, gourmet bites\, and a garden gift at every stop with purchase. \nParticipating businesses include:  The Lenox Library Association Book Nook\, Casablanca\, Concepts of Art\, Dare Bottleshop & Provisions\, Design Menagerie\, Glad Rags\, Hoadley Gallery\, La Pace\, Laurie Donovan Designs\, MacKimmie Co.\, Nejaimes Wine Cellars\, Shooz\, and Swtrz. \n 
URL:https://lenoxlib.org/event/the-lenox-garden-party-a-retail-experience/
LOCATION:Lenox Library\, 18 MAIN ST\, LENOX\, MA\, 01240-2310\, United States
CATEGORIES:Community,Fundraising,LLA Events
ATTACH;FMTTYPE=image/png:https://lenoxlib.org/wp-content/uploads/2025/04/Lenox-Garden-Party.png
END:VEVENT
END:VCALENDAR